BEGIN:VCALENDAR
VERSION:2.0
PRODID:-//Park Dinozaurów JuraPark Krasiejów - ECPv6.15.20//NONSGML v1.0//EN
CALSCALE:GREGORIAN
METHOD:PUBLISH
X-ORIGINAL-URL:https://juraparkkrasiejow.pl
X-WR-CALDESC:Wydarzenia dla Park Dinozaurów JuraPark Krasiejów
REFRESH-INTERVAL;VALUE=DURATION:PT1H
X-Robots-Tag:noindex
X-PUBLISHED-TTL:PT1H
BEGIN:VTIMEZONE
TZID:Europe/Warsaw
BEGIN:DAYLIGHT
TZOFFSETFROM:+0100
TZOFFSETTO:+0200
TZNAME:CEST
DTSTART:20240331T010000
END:DAYLIGHT
BEGIN:STANDARD
TZOFFSETFROM:+0200
TZOFFSETTO:+0100
TZNAME:CET
DTSTART:20241027T010000
END:STANDARD
BEGIN:DAYLIGHT
TZOFFSETFROM:+0100
TZOFFSETTO:+0200
TZNAME:CEST
DTSTART:20250330T010000
END:DAYLIGHT
BEGIN:STANDARD
TZOFFSETFROM:+0200
TZOFFSETTO:+0100
TZNAME:CET
DTSTART:20251026T010000
END:STANDARD
BEGIN:DAYLIGHT
TZOFFSETFROM:+0100
TZOFFSETTO:+0200
TZNAME:CEST
DTSTART:20260329T010000
END:DAYLIGHT
BEGIN:STANDARD
TZOFFSETFROM:+0200
TZOFFSETTO:+0100
TZNAME:CET
DTSTART:20261025T010000
END:STANDARD
END:VTIMEZONE
BEGIN:VEVENT
DTSTART;VALUE=DATE:20250719
DTEND;VALUE=DATE:20250721
DTSTAMP:20260421T121849
CREATED:20250513T132909Z
LAST-MODIFIED:20250626T080552Z
UID:10002980-1752883200-1753055999@juraparkkrasiejow.pl
SUMMARY:🎂🥳 Urodziny Kraśki i Zlot Małych Dinofanów
DESCRIPTION:Kraśka\, Juraś i Soluś zapraszają na wyjątkowe\, urodzinowe świętowanie! \nW programie* m.in.: \nUrodzinowy tort – oczywiście nie zabraknie urodzinowego tortu – wspólnie zaśpiewamy 100 lat dla naszej Solenizantki Dinozura-Kraśki i zjemy mini urodzinowe słodkości. \nWielka kartka urodzinowa – będziemy tworzyć wielką kartkę urodzinową\, gdzie każdy będzie mógł zapisać\, skąd przyjechał na nasze urodziny. Dodatkowo każdy dinofan będzie mógł stworzyć własną niepowtarzalna laurkę dla Kraśki. \nPremium przewodnik – tylko raz\, 20 lipca\, wyjątkowe przejście ścieżką JuraParku z naszym przewodnikiem\, który opowie Wam dino-historie w sposób\, jakiego jeszcze nie słyszeliście! Mowa tu o Krzysztofie Poznańskim z Naukowo TV. Po oprowadzeniu będzie można zdobyć autograf na jego autorskich książkach\, porozmawiać\, zrobić sobie pamiątkowe zdjęcie. \nWarsztaty Paleontologiczne – wciel się w młodego odkrywcę i odkryj w piasku pustyni prawdziwe skamieniałości\, które będzie można zabrać na pamiątkę do domu. Dla najmłodszych możemy zaproponować warsztaty z dekorowania gipsowych figurek dinozaurów\, a nieco starsi mogą odkryć w sobie paleontologa preparując szkielet dinozaura z gipsowego bloku. \nPokazy dinomody – każdy\, kto przyjdzie w tym dniu „zdinozurzony” – czyli pokaże jakim jest dinofanem\, będzie mógł zrobić sobie pamiątkowe zdjęcie na specjalnie przygotowanej ściance. Ubierzcie się dinozaurowo\, przynieście maskotki\, figurki\, ogony i rogi – im bardziej „dino”\, tym lepiej! Każdy\, kto przyjedzie do nas z dino-elementem\, otrzyma niespodziankę przy wejściu! \nStrefa Dino-Wyzwań – sprawdź się w naszych konkurencjach – traf do celu\, ustrzel dinozaura\, zagraj w wielkie dino – domino\, ułóż swojego dinozaura z ekologicznych kości\, wciel się w bańkowego twórcę i wyczaruj ogromne bańki – poza wspomnianymi czeka jeszcze wiele innych wyzwań dla rodziców i dzieci. \nGra terenowa – zaopatrz siew  mapę na pieczątki\, która nie tylko przeprowadzi Cię przez wszystkie atrakcje naszego parku\, ale tez kiedy zbierzesz wszystkie otrzymasz pamiątkowe Vademecum odkrywcy JuraParku. \nPiana Party na plaży – w każdy urodzinowy dzień po dwa wyrzuty piany na strzeżonym kąpielisku – dużo bezpiecznej zabawy na ogromnej Jurajskiej Plaży \nWizyta Przyjaciół Kraśki – Solusia z JuraParku Solec\, Jurasia z Bałtowa\, Treflika – od naszego Partnera wydarzenia\, marki Trefl i innych \n*Program wydarzenia ma charakter roboczy – ostateczną liczbę atrakcji i ich godziny podamy ok 7 dni przed planowaną imprezą z racji na dochodzące atrakcje i partnerów wydarzenia. Wszystko będzie się działo w godzinach otwarcia parku (10.00-19.00)
URL:https://juraparkkrasiejow.pl/wydarzenie/urodziny-juraparku/
CATEGORIES:Wydarzenia
ATTACH;FMTTYPE=image/webp:https://juraparkkrasiejow.pl/wp-content/uploads/2025/05/urodziny-1.webp
END:VEVENT
BEGIN:VEVENT
DTSTART;VALUE=DATE:20250720
DTEND;VALUE=DATE:20250721
DTSTAMP:20260421T121849
CREATED:20250623T075736Z
LAST-MODIFIED:20250623T080206Z
UID:10003835-1752969600-1753055999@juraparkkrasiejow.pl
SUMMARY:🫧Piana Party
DESCRIPTION:Zanurz się w … pianie! W każdy letni weekend zapraszamy dzieci i dorosłych na wyjątkowe Piana Party – pełne muzyki\, śmiechu i piany po pas! Gwarantowana dobra zabawa i niezapomniane wspomnienia z JuraParku Krasiejów! \nW przypadku złych warunków atmosferycznych wydarzenie może zostać odwołane. Przed przyjazdem skontaktuj się z nami: +48 519 346 149
URL:https://juraparkkrasiejow.pl/wydarzenie/%f0%9f%ab%a7piana-party/2025-07-20/
CATEGORIES:Wydarzenia
ATTACH;FMTTYPE=image/webp:https://juraparkkrasiejow.pl/wp-content/uploads/2025/06/piana-party-scaled.webp
END:VEVENT
BEGIN:VEVENT
DTSTART;TZID=Europe/Warsaw:20250720T100000
DTEND;TZID=Europe/Warsaw:20250720T190000
DTSTAMP:20260421T121849
CREATED:20250513T123942Z
LAST-MODIFIED:20250513T124803Z
UID:10002113-1753005600-1753038000@juraparkkrasiejow.pl
SUMMARY:Otwarte
DESCRIPTION:
URL:https://juraparkkrasiejow.pl/wydarzenie/otwarte-5/2025-07-20/
CATEGORIES:godziny
END:VEVENT
END:VCALENDAR