BEGIN:VCALENDAR
VERSION:2.0
PRODID:-//Park Dinozaurów JuraPark Krasiejów - ECPv6.15.20//NONSGML v1.0//EN
CALSCALE:GREGORIAN
METHOD:PUBLISH
X-WR-CALNAME:Park Dinozaurów JuraPark Krasiejów
X-ORIGINAL-URL:https://juraparkkrasiejow.pl
X-WR-CALDESC:Wydarzenia dla Park Dinozaurów JuraPark Krasiejów
REFRESH-INTERVAL;VALUE=DURATION:PT1H
X-Robots-Tag:noindex
X-PUBLISHED-TTL:PT1H
BEGIN:VTIMEZONE
TZID:Europe/Warsaw
BEGIN:DAYLIGHT
TZOFFSETFROM:+0100
TZOFFSETTO:+0200
TZNAME:CEST
DTSTART:20240331T010000
END:DAYLIGHT
BEGIN:STANDARD
TZOFFSETFROM:+0200
TZOFFSETTO:+0100
TZNAME:CET
DTSTART:20241027T010000
END:STANDARD
BEGIN:DAYLIGHT
TZOFFSETFROM:+0100
TZOFFSETTO:+0200
TZNAME:CEST
DTSTART:20250330T010000
END:DAYLIGHT
BEGIN:STANDARD
TZOFFSETFROM:+0200
TZOFFSETTO:+0100
TZNAME:CET
DTSTART:20251026T010000
END:STANDARD
BEGIN:DAYLIGHT
TZOFFSETFROM:+0100
TZOFFSETTO:+0200
TZNAME:CEST
DTSTART:20260329T010000
END:DAYLIGHT
BEGIN:STANDARD
TZOFFSETFROM:+0200
TZOFFSETTO:+0100
TZNAME:CET
DTSTART:20261025T010000
END:STANDARD
END:VTIMEZONE
BEGIN:VEVENT
DTSTART;VALUE=DATE:20251124
DTEND;VALUE=DATE:20251222
DTSTAMP:20260421T171122
CREATED:20250609T082145Z
LAST-MODIFIED:20251217T131829Z
UID:10003822-1763942400-1766361599@juraparkkrasiejow.pl
SUMMARY:🎅🏻 🎄Wioska Św. Mikołaja
DESCRIPTION:
URL:https://juraparkkrasiejow.pl/wydarzenie/%f0%9f%8e%85%f0%9f%8f%bb-%f0%9f%8e%84wioska-sw-mikolaja/
CATEGORIES:godziny,Wydarzenia
ATTACH;FMTTYPE=image/webp:https://juraparkkrasiejow.pl/wp-content/uploads/2025/06/miko_aj_1_5x.webp
END:VEVENT
BEGIN:VEVENT
DTSTART;TZID=Europe/Warsaw:20251205T090000
DTEND;TZID=Europe/Warsaw:20251205T150000
DTSTAMP:20260421T171122
CREATED:20250606T125352Z
LAST-MODIFIED:20251217T131633Z
UID:10003811-1764925200-1764946800@juraparkkrasiejow.pl
SUMMARY:Wioska Św. Mikołaja - oferta dla grup zorganizowanych
DESCRIPTION:🎅❄️ Święty Mikołaj w JuraParku Krasiejów!Magia świąt w jurajskiej odsłonie! \nZapraszamy wszystkie dzieci (i dorosłych też!) na niezapomniane spotkanie z Mikołajem wśród dinozaurów!W programie: świąteczne animacje\, zimowa scenografia\, warsztaty\, prezenty i mnóstwo radości. To idealna okazja\, by poczuć klimat zbliżających się świąt i zrobić sobie pamiątkowe zdjęcie z najprawdziwszym Mikołajem! 🎁🦖
URL:https://juraparkkrasiejow.pl/wydarzenie/wioska-sw-mikolaja-oferta-dla-grup-zorganizowanych/2025-12-05/
CATEGORIES:godziny
ATTACH;FMTTYPE=image/webp:https://juraparkkrasiejow.pl/wp-content/uploads/2025/06/miko_aj_szko_y.webp
END:VEVENT
END:VCALENDAR