BEGIN:VCALENDAR
VERSION:2.0
PRODID:-//Park Dinozaurów JuraPark Krasiejów - ECPv6.15.20//NONSGML v1.0//EN
CALSCALE:GREGORIAN
METHOD:PUBLISH
X-WR-CALNAME:Park Dinozaurów JuraPark Krasiejów
X-ORIGINAL-URL:https://juraparkkrasiejow.pl
X-WR-CALDESC:Wydarzenia dla Park Dinozaurów JuraPark Krasiejów
REFRESH-INTERVAL;VALUE=DURATION:PT1H
X-Robots-Tag:noindex
X-PUBLISHED-TTL:PT1H
BEGIN:VTIMEZONE
TZID:Europe/Warsaw
BEGIN:DAYLIGHT
TZOFFSETFROM:+0100
TZOFFSETTO:+0200
TZNAME:CEST
DTSTART:20240331T010000
END:DAYLIGHT
BEGIN:STANDARD
TZOFFSETFROM:+0200
TZOFFSETTO:+0100
TZNAME:CET
DTSTART:20241027T010000
END:STANDARD
BEGIN:DAYLIGHT
TZOFFSETFROM:+0100
TZOFFSETTO:+0200
TZNAME:CEST
DTSTART:20250330T010000
END:DAYLIGHT
BEGIN:STANDARD
TZOFFSETFROM:+0200
TZOFFSETTO:+0100
TZNAME:CET
DTSTART:20251026T010000
END:STANDARD
BEGIN:DAYLIGHT
TZOFFSETFROM:+0100
TZOFFSETTO:+0200
TZNAME:CEST
DTSTART:20260329T010000
END:DAYLIGHT
BEGIN:STANDARD
TZOFFSETFROM:+0200
TZOFFSETTO:+0100
TZNAME:CET
DTSTART:20261025T010000
END:STANDARD
END:VTIMEZONE
BEGIN:VEVENT
DTSTART;VALUE=DATE:20251109
DTEND;VALUE=DATE:20251110
DTSTAMP:20260420T134437
CREATED:20250606T124229Z
LAST-MODIFIED:20250930T102835Z
UID:10003033-1762646400-1762732799@juraparkkrasiejow.pl
SUMMARY:🏃🏻Bieg Ultra Niepodległa i biegi dla dzieci
DESCRIPTION:Zapraszamy na wyjątkowe sportowe święto w scenerii dinozaurów!Na trasie: Bieg Ultra Niepodległa dla miłośników wyzwań oraz biegi dla dzieci\, w których liczy się przede wszystkim radość i dobra zabawa.Rodzinna atmosfera\, zdrowa rywalizacja i jurajska przygoda – tego dnia nie może Cię zabraknąć!
URL:https://juraparkkrasiejow.pl/wydarzenie/bieg-ultra-niepodlegla-i-biegi-dla-dzieci/
CATEGORIES:godziny,Wydarzenia
ATTACH;FMTTYPE=image/webp:https://juraparkkrasiejow.pl/wp-content/uploads/2025/06/biegi.webp
END:VEVENT
END:VCALENDAR