BEGIN:VCALENDAR
VERSION:2.0
PRODID:-//Park Dinozaurów JuraPark Krasiejów - ECPv6.15.20//NONSGML v1.0//EN
CALSCALE:GREGORIAN
METHOD:PUBLISH
X-WR-CALNAME:Park Dinozaurów JuraPark Krasiejów
X-ORIGINAL-URL:https://juraparkkrasiejow.pl
X-WR-CALDESC:Wydarzenia dla Park Dinozaurów JuraPark Krasiejów
REFRESH-INTERVAL;VALUE=DURATION:PT1H
X-Robots-Tag:noindex
X-PUBLISHED-TTL:PT1H
BEGIN:VTIMEZONE
TZID:Europe/Warsaw
BEGIN:DAYLIGHT
TZOFFSETFROM:+0100
TZOFFSETTO:+0200
TZNAME:CEST
DTSTART:20240331T010000
END:DAYLIGHT
BEGIN:STANDARD
TZOFFSETFROM:+0200
TZOFFSETTO:+0100
TZNAME:CET
DTSTART:20241027T010000
END:STANDARD
BEGIN:DAYLIGHT
TZOFFSETFROM:+0100
TZOFFSETTO:+0200
TZNAME:CEST
DTSTART:20250330T010000
END:DAYLIGHT
BEGIN:STANDARD
TZOFFSETFROM:+0200
TZOFFSETTO:+0100
TZNAME:CET
DTSTART:20251026T010000
END:STANDARD
BEGIN:DAYLIGHT
TZOFFSETFROM:+0100
TZOFFSETTO:+0200
TZNAME:CEST
DTSTART:20260329T010000
END:DAYLIGHT
BEGIN:STANDARD
TZOFFSETFROM:+0200
TZOFFSETTO:+0100
TZNAME:CET
DTSTART:20261025T010000
END:STANDARD
END:VTIMEZONE
BEGIN:VEVENT
DTSTART;VALUE=DATE:20251011
DTEND;VALUE=DATE:20251030
DTSTAMP:20260420T173938
CREATED:20250606T121442Z
LAST-MODIFIED:20251027T185632Z
UID:10002986-1760140800-1761782399@juraparkkrasiejow.pl
SUMMARY:👻🎃 Halloweenowe Dekoracje
DESCRIPTION:🎃👻 Strasznie fajna atmosfera w JuraParku!🦖 Odwiedź nas i zobacz\, jak dinozaury świętują Halloween! \nJesienią JuraPark Krasiejów zmienia się w klimatyczne miejsce pełne halloweenowych dekoracji\, pajęczyn\, dyniowych straszaków i jurajskich potworów!Idealna okazja na rodzinną wycieczkę z dreszczykiem – bez straszenia\, za to z dużą dawką dobrej zabawy i pięknych zdjęć! \n📸 Wpadaj po jesienne fotki i niezapomniane wspomnienia!
URL:https://juraparkkrasiejow.pl/wydarzenie/halloweenowe-dekoracje/
CATEGORIES:godziny,Wydarzenia
ATTACH;FMTTYPE=image/webp:https://juraparkkrasiejow.pl/wp-content/uploads/2025/06/halloween-decortaions.webp
END:VEVENT
END:VCALENDAR